Package: SRAdb Version: 1.70.0 Command: /home/biocbuild/R/R/bin/R CMD build --keep-empty-dirs --no-resave-data SRAdb StartedAt: 2025-10-14 05:07:18 -0000 (Tue, 14 Oct 2025) EndedAt: 2025-10-14 05:07:30 -0000 (Tue, 14 Oct 2025) EllapsedTime: 12.0 seconds RetCode: 0 Status: OK PackageFile: SRAdb_1.70.0.tar.gz PackageFileSize: 881.1 KiB