Package: SRAdb Version: 1.72.0 Command: /Library/Frameworks/R.framework/Resources/bin/R CMD INSTALL SRAdb StartedAt: 2025-10-31 15:10:24 -0400 (Fri, 31 Oct 2025) EndedAt: 2025-10-31 15:10:26 -0400 (Fri, 31 Oct 2025) EllapsedTime: 2.1 seconds RetCode: 0 Status: OK