Package: SRAdb Version: 1.72.0 Command: /Library/Frameworks/R.framework/Resources/bin/R CMD build --keep-empty-dirs --no-resave-data SRAdb StartedAt: 2025-10-31 17:57:17 -0400 (Fri, 31 Oct 2025) EndedAt: 2025-10-31 17:57:23 -0400 (Fri, 31 Oct 2025) EllapsedTime: 6.1 seconds RetCode: 0 Status: OK PackageFile: SRAdb_1.72.0.tar.gz PackageFileSize: 889.6 KiB