Package: SRAdb Version: 1.72.0 Command: rm -rf SRAdb.buildbin-libdir && mkdir SRAdb.buildbin-libdir && /Users/biocbuild/BBS/utils/build-universal.sh SRAdb_1.72.0.tar.gz /Library/Frameworks/R.framework/Resources/bin/R SRAdb.buildbin-libdir StartedAt: 2025-10-31 23:25:23 -0400 (Fri, 31 Oct 2025) EndedAt: 2025-10-31 23:25:26 -0400 (Fri, 31 Oct 2025) EllapsedTime: 3.1 seconds RetCode: 0 Status: OK PackageFile: SRAdb_1.72.0.tgz PackageFileSize: 848.1 KiB