Package: SQLDataFrame Version: 1.24.0 Command: /home/biocbuild/R/R/bin/R CMD INSTALL SQLDataFrame StartedAt: 2025-11-10 21:22:31 -0000 (Mon, 10 Nov 2025) EndedAt: 2025-11-10 21:22:55 -0000 (Mon, 10 Nov 2025) EllapsedTime: 23.5 seconds RetCode: 0 Status: OK