Package: SQLDataFrame Version: 1.24.0 Command: /home/biocbuild/R/R/bin/R CMD check --install=check:SQLDataFrame.install-out.txt --library=/home/biocbuild/R/R/site-library --no-vignettes --timings SQLDataFrame_1.24.0.tar.gz StartedAt: 2025-11-11 15:24:32 -0000 (Tue, 11 Nov 2025) EndedAt: 2025-11-11 15:28:59 -0000 (Tue, 11 Nov 2025) EllapsedTime: 267.4 seconds RetCode: 1 Status: ERROR CheckDir: SQLDataFrame.Rcheck Warnings: NA