Package: SQLDataFrame Version: 1.24.0 Command: /home/biocbuild/R/R/bin/R CMD build --keep-empty-dirs --no-resave-data SQLDataFrame StartedAt: 2025-11-11 05:35:19 -0000 (Tue, 11 Nov 2025) EndedAt: 2025-11-11 05:35:55 -0000 (Tue, 11 Nov 2025) EllapsedTime: 36.0 seconds RetCode: 0 Status: OK PackageFile: SQLDataFrame_1.24.0.tar.gz PackageFileSize: 260.9 KiB