Package: SQLDataFrame Version: 1.24.0 Command: /home/biocbuild/bbs-3.22-bioc/R/bin/R CMD INSTALL SQLDataFrame StartedAt: 2025-11-13 15:15:59 -0500 (Thu, 13 Nov 2025) EndedAt: 2025-11-13 15:16:16 -0500 (Thu, 13 Nov 2025) EllapsedTime: 17.2 seconds RetCode: 0 Status: OK