Package: SQLDataFrame Version: 1.24.0 Command: /home/biocbuild/bbs-3.22-bioc/R/bin/R CMD check --install=check:SQLDataFrame.install-out.txt --library=/home/biocbuild/bbs-3.22-bioc/R/site-library --timings SQLDataFrame_1.24.0.tar.gz StartedAt: 2025-11-12 04:37:12 -0500 (Wed, 12 Nov 2025) EndedAt: 2025-11-12 04:39:52 -0500 (Wed, 12 Nov 2025) EllapsedTime: 160.1 seconds RetCode: 1 Status: ERROR CheckDir: SQLDataFrame.Rcheck Warnings: NA