Package: SPsimSeq Version: 1.20.0 Command: /home/biocbuild/R/R/bin/R CMD INSTALL SPsimSeq StartedAt: 2025-11-10 21:57:48 -0000 (Mon, 10 Nov 2025) EndedAt: 2025-11-10 21:58:36 -0000 (Mon, 10 Nov 2025) EllapsedTime: 47.9 seconds RetCode: 0 Status: OK