Package: SPsimSeq Version: 1.20.0 Command: /home/biocbuild/bbs-3.22-bioc/R/bin/R CMD INSTALL SPsimSeq StartedAt: 2025-11-11 15:48:35 -0500 (Tue, 11 Nov 2025) EndedAt: 2025-11-11 15:49:08 -0500 (Tue, 11 Nov 2025) EllapsedTime: 33.6 seconds RetCode: 0 Status: OK