Package: SPsimSeq Version: 1.20.0 Command: /home/biocbuild/bbs-3.22-bioc/R/bin/R CMD check --install=check:SPsimSeq.install-out.txt --library=/home/biocbuild/bbs-3.22-bioc/R/site-library --timings SPsimSeq_1.20.0.tar.gz StartedAt: 2025-11-12 04:37:03 -0500 (Wed, 12 Nov 2025) EndedAt: 2025-11-12 04:46:43 -0500 (Wed, 12 Nov 2025) EllapsedTime: 579.5 seconds RetCode: 0 Status: OK CheckDir: SPsimSeq.Rcheck Warnings: 0