Package: SPsimSeq Version: 1.20.0 Command: /home/biocbuild/bbs-3.22-bioc/R/bin/R CMD build --keep-empty-dirs --no-resave-data --md5 SPsimSeq StartedAt: 2025-11-11 20:29:22 -0500 (Tue, 11 Nov 2025) EndedAt: 2025-11-11 20:33:14 -0500 (Tue, 11 Nov 2025) EllapsedTime: 231.2 seconds RetCode: 0 Status: OK PackageFile: SPsimSeq_1.20.0.tar.gz PackageFileSize: 768.6 KiB