Package: SPOTlight Version: 1.14.0 Command: /home/biocbuild/R/R/bin/R CMD INSTALL SPOTlight StartedAt: 2025-11-13 21:28:10 -0000 (Thu, 13 Nov 2025) EndedAt: 2025-11-13 21:29:04 -0000 (Thu, 13 Nov 2025) EllapsedTime: 53.9 seconds RetCode: 0 Status: OK