Package: SPOTlight Version: 1.14.0 Command: /home/biocbuild/R/R/bin/R CMD build --keep-empty-dirs --no-resave-data SPOTlight StartedAt: 2025-11-14 05:42:57 -0000 (Fri, 14 Nov 2025) EndedAt: 2025-11-14 05:46:13 -0000 (Fri, 14 Nov 2025) EllapsedTime: 196.1 seconds RetCode: 0 Status: OK PackageFile: SPOTlight_1.14.0.tar.gz PackageFileSize: 2.263 MiB