Package: SPOTlight Version: 1.14.0 Command: /home/biocbuild/bbs-3.22-bioc/R/bin/R CMD INSTALL SPOTlight StartedAt: 2025-11-11 15:24:02 -0500 (Tue, 11 Nov 2025) EndedAt: 2025-11-11 15:24:39 -0500 (Tue, 11 Nov 2025) EllapsedTime: 37.5 seconds RetCode: 0 Status: OK