Package: SPOTlight Version: 1.12.2 Command: /home/biocbuild/bbs-3.21-bioc/R/bin/R CMD INSTALL SPOTlight StartedAt: 2025-10-15 15:18:49 -0400 (Wed, 15 Oct 2025) EndedAt: 2025-10-15 15:19:27 -0400 (Wed, 15 Oct 2025) EllapsedTime: 37.5 seconds RetCode: 0 Status: OK