Package: SPOTlight Version: 1.12.2 Command: /home/biocbuild/bbs-3.21-bioc/R/bin/R CMD build --keep-empty-dirs --no-resave-data SPOTlight StartedAt: 2025-10-15 20:08:03 -0400 (Wed, 15 Oct 2025) EndedAt: 2025-10-15 20:10:20 -0400 (Wed, 15 Oct 2025) EllapsedTime: 137.2 seconds RetCode: 0 Status: OK PackageFile: SPOTlight_1.12.2.tar.gz PackageFileSize: 4.057 MiB