Package: SPOTlight Version: 1.12.2 Maintainer: Marc Elosua-Bayes MaintainerEmail: elosua.marc at gmail.com git_url: https://git.bioconductor.org/packages/SPOTlight git_branch: RELEASE_3_21 git_last_commit: 88812e3 git_last_commit_date: 2025-10-01 11:10:48 -0400 (Wed, 01 Oct 2025)