Package: SPONGE Version: 1.30.0 Command: /home/biocbuild/R/R/bin/R CMD INSTALL SPONGE StartedAt: 2025-10-13 20:46:09 -0000 (Mon, 13 Oct 2025) EndedAt: 2025-10-13 20:47:46 -0000 (Mon, 13 Oct 2025) EllapsedTime: 97.2 seconds RetCode: 0 Status: OK