Package: SPONGE Version: 1.32.0 Command: /Library/Frameworks/R.framework/Resources/bin/R CMD INSTALL SPONGE StartedAt: 2025-11-06 15:09:44 -0500 (Thu, 06 Nov 2025) EndedAt: 2025-11-06 15:10:19 -0500 (Thu, 06 Nov 2025) EllapsedTime: 35.3 seconds RetCode: 0 Status: OK