Package: SPONGE Version: 1.32.0 Command: /Library/Frameworks/R.framework/Resources/bin/R CMD build --keep-empty-dirs --no-resave-data SPONGE StartedAt: 2025-11-06 17:52:35 -0500 (Thu, 06 Nov 2025) EndedAt: 2025-11-06 17:54:00 -0500 (Thu, 06 Nov 2025) EllapsedTime: 85.0 seconds RetCode: 0 Status: OK PackageFile: SPONGE_1.32.0.tar.gz PackageFileSize: 8.978 MiB