Package: SPONGE Version: 1.32.0 Command: rm -rf SPONGE.buildbin-libdir && mkdir SPONGE.buildbin-libdir && /Users/biocbuild/BBS/utils/build-universal.sh SPONGE_1.32.0.tar.gz /Library/Frameworks/R.framework/Resources/bin/R SPONGE.buildbin-libdir StartedAt: 2025-11-06 23:23:16 -0500 (Thu, 06 Nov 2025) EndedAt: 2025-11-06 23:23:54 -0500 (Thu, 06 Nov 2025) EllapsedTime: 37.7 seconds RetCode: 0 Status: OK PackageFile: SPONGE_1.32.0.tgz PackageFileSize: 8.738 MiB