Package: SPLINTER Version: 1.36.0 Command: /home/biocbuild/R/R/bin/R CMD INSTALL SPLINTER StartedAt: 2025-11-13 21:59:22 -0000 (Thu, 13 Nov 2025) EndedAt: 2025-11-13 22:00:28 -0000 (Thu, 13 Nov 2025) EllapsedTime: 66.2 seconds RetCode: 0 Status: OK