Package: SPLINTER Version: 1.36.0 Command: /home/biocbuild/R/R/bin/R CMD build --keep-empty-dirs --no-resave-data SPLINTER StartedAt: 2025-11-14 05:42:04 -0000 (Fri, 14 Nov 2025) EndedAt: 2025-11-14 05:44:08 -0000 (Fri, 14 Nov 2025) EllapsedTime: 124.1 seconds RetCode: 1 Status: ERROR PackageFile: None PackageFileSize: NA