Package: SPLINTER Version: 1.36.0 Command: /home/biocbuild/bbs-3.22-bioc/R/bin/R CMD check --install=check:SPLINTER.install-out.txt --library=/home/biocbuild/bbs-3.22-bioc/R/site-library --timings SPLINTER_1.36.0.tar.gz StartedAt: 2025-11-12 04:34:46 -0500 (Wed, 12 Nov 2025) EndedAt: 2025-11-12 04:41:07 -0500 (Wed, 12 Nov 2025) EllapsedTime: 381.2 seconds RetCode: 0 Status: OK CheckDir: SPLINTER.Rcheck Warnings: 0