Package: SPLINTER Version: 1.34.0 Command: /home/biocbuild/bbs-3.21-bioc/R/bin/R CMD INSTALL SPLINTER StartedAt: 2025-10-08 15:49:29 -0400 (Wed, 08 Oct 2025) EndedAt: 2025-10-08 15:50:19 -0400 (Wed, 08 Oct 2025) EllapsedTime: 49.8 seconds RetCode: 0 Status: OK