Package: SPLINTER Version: 1.34.0 Command: /home/biocbuild/bbs-3.21-bioc/R/bin/R CMD build --keep-empty-dirs --no-resave-data SPLINTER StartedAt: 2025-10-08 20:05:29 -0400 (Wed, 08 Oct 2025) EndedAt: 2025-10-08 20:07:06 -0400 (Wed, 08 Oct 2025) EllapsedTime: 97.1 seconds RetCode: 0 Status: OK PackageFile: SPLINTER_1.34.0.tar.gz PackageFileSize: 961.3 KiB