Package: SPLINTER Version: 1.34.0 Command: /Library/Frameworks/R.framework/Resources/bin/R CMD INSTALL SPLINTER StartedAt: 2025-04-21 15:39:10 -0400 (Mon, 21 Apr 2025) EndedAt: 2025-04-21 15:40:17 -0400 (Mon, 21 Apr 2025) EllapsedTime: 66.7 seconds RetCode: 0 Status: OK