Package: SPLINTER Version: 1.34.0 Command: /Library/Frameworks/R.framework/Resources/bin/R CMD INSTALL SPLINTER StartedAt: 2025-10-06 18:02:14 -0400 (Mon, 06 Oct 2025) EndedAt: 2025-10-06 18:03:16 -0400 (Mon, 06 Oct 2025) EllapsedTime: 62.1 seconds RetCode: 0 Status: OK