Package: SPLINTER Version: 1.34.0 Command: /Library/Frameworks/R.framework/Resources/bin/R CMD build --keep-empty-dirs --no-resave-data SPLINTER StartedAt: 2025-10-07 10:44:08 -0400 (Tue, 07 Oct 2025) EndedAt: 2025-10-07 10:46:11 -0400 (Tue, 07 Oct 2025) EllapsedTime: 123.1 seconds RetCode: 1 Status: ERROR PackageFile: None PackageFileSize: NA