Package: SPICEY Version: 1.0.0 Command: /home/biocbuild/bbs-3.22-bioc/R/bin/R CMD check --install=check:SPICEY.install-out.txt --library=/home/biocbuild/bbs-3.22-bioc/R/site-library --timings SPICEY_1.0.0.tar.gz StartedAt: 2025-11-15 04:45:17 -0500 (Sat, 15 Nov 2025) EndedAt: 2025-11-15 04:48:14 -0500 (Sat, 15 Nov 2025) EllapsedTime: 177.2 seconds RetCode: 0 Status: OK CheckDir: SPICEY.Rcheck Warnings: 0