Package: SPICEY Version: 1.0.0 Command: /home/biocbuild/bbs-3.22-bioc/R/bin/R CMD build --keep-empty-dirs --no-resave-data --md5 SPICEY StartedAt: 2025-11-11 20:25:21 -0500 (Tue, 11 Nov 2025) EndedAt: 2025-11-11 20:26:02 -0500 (Tue, 11 Nov 2025) EllapsedTime: 41.0 seconds RetCode: 0 Status: OK PackageFile: SPICEY_1.0.0.tar.gz PackageFileSize: 1002 KiB