Package: SPICEY Version: 1.0.0 Command: /Library/Frameworks/R.framework/Resources/bin/R CMD INSTALL SPICEY StartedAt: 2025-11-03 15:41:03 -0500 (Mon, 03 Nov 2025) EndedAt: 2025-11-03 15:41:19 -0500 (Mon, 03 Nov 2025) EllapsedTime: 16.2 seconds RetCode: 0 Status: OK