Package: SPICEY Version: 1.0.0 Command: /Library/Frameworks/R.framework/Resources/bin/R CMD INSTALL SPICEY StartedAt: 2025-11-10 15:21:33 -0500 (Mon, 10 Nov 2025) EndedAt: 2025-11-10 15:21:37 -0500 (Mon, 10 Nov 2025) EllapsedTime: 4.4 seconds RetCode: 0 Status: OK