Package: SPIAT Version: 1.12.0 Command: /home/biocbuild/R/R/bin/R CMD build --keep-empty-dirs --no-resave-data SPIAT StartedAt: 2025-11-14 05:38:40 -0000 (Fri, 14 Nov 2025) EndedAt: 2025-11-14 05:42:34 -0000 (Fri, 14 Nov 2025) EllapsedTime: 234.2 seconds RetCode: 0 Status: OK PackageFile: SPIAT_1.12.0.tar.gz PackageFileSize: 5.647 MiB