Package: SPIAT Version: 1.12.0 Command: /home/biocbuild/bbs-3.22-bioc/R/bin/R CMD INSTALL SPIAT StartedAt: 2025-11-11 15:28:08 -0500 (Tue, 11 Nov 2025) EndedAt: 2025-11-11 15:28:36 -0500 (Tue, 11 Nov 2025) EllapsedTime: 28.2 seconds RetCode: 0 Status: OK