Package: SPIAT Version: 1.10.0 Command: /home/biocbuild/bbs-3.21-bioc/R/bin/R CMD build --keep-empty-dirs --no-resave-data SPIAT StartedAt: 2025-09-28 20:17:44 -0400 (Sun, 28 Sep 2025) EndedAt: 2025-09-28 20:20:23 -0400 (Sun, 28 Sep 2025) EllapsedTime: 159.1 seconds RetCode: 0 Status: OK PackageFile: SPIAT_1.10.0.tar.gz PackageFileSize: 7.435 MiB