Package: SPIAT Version: 1.10.0 Command: /Library/Frameworks/R.framework/Resources/bin/R CMD INSTALL SPIAT StartedAt: 2025-10-13 15:43:36 -0400 (Mon, 13 Oct 2025) EndedAt: 2025-10-13 15:44:39 -0400 (Mon, 13 Oct 2025) EllapsedTime: 63.1 seconds RetCode: 0 Status: OK