Package: SPIAT Version: 1.10.0 Command: /Library/Frameworks/R.framework/Resources/bin/R CMD build --keep-empty-dirs --no-resave-data SPIAT StartedAt: 2025-10-13 22:56:14 -0400 (Mon, 13 Oct 2025) EndedAt: 2025-10-13 23:02:11 -0400 (Mon, 13 Oct 2025) EllapsedTime: 356.8 seconds RetCode: 0 Status: OK PackageFile: SPIAT_1.10.0.tar.gz PackageFileSize: 7.271 MiB