Package: SPIAT Version: 1.10.0 Command: rm -rf SPIAT.buildbin-libdir && mkdir SPIAT.buildbin-libdir && /Users/biocbuild/BBS/utils/build-universal.sh SPIAT_1.10.0.tar.gz /Library/Frameworks/R.framework/Resources/bin/R SPIAT.buildbin-libdir StartedAt: 2025-10-14 14:52:30 -0400 (Tue, 14 Oct 2025) EndedAt: 2025-10-14 14:53:57 -0400 (Tue, 14 Oct 2025) EllapsedTime: 86.3 seconds RetCode: 0 Status: OK PackageFile: SPIAT_1.10.0.tgz PackageFileSize: 6.995 MiB