Package: SPIAT Version: 1.10.0 Command: /Library/Frameworks/R.framework/Resources/bin/R CMD INSTALL SPIAT StartedAt: 2025-09-29 16:36:12 -0400 (Mon, 29 Sep 2025) EndedAt: 2025-09-29 16:36:47 -0400 (Mon, 29 Sep 2025) EllapsedTime: 35.0 seconds RetCode: 0 Status: OK