Package: SPIAT Version: 1.10.0 Command: /Library/Frameworks/R.framework/Resources/bin/R CMD build --keep-empty-dirs --no-resave-data SPIAT StartedAt: 2025-09-30 10:06:31 -0400 (Tue, 30 Sep 2025) EndedAt: 2025-09-30 10:09:49 -0400 (Tue, 30 Sep 2025) EllapsedTime: 197.6 seconds RetCode: 0 Status: OK PackageFile: SPIAT_1.10.0.tar.gz PackageFileSize: 7.272 MiB