Package: SPIAT Version: 1.10.0 Command: rm -rf SPIAT.buildbin-libdir && mkdir SPIAT.buildbin-libdir && /Users/biocbuild/BBS/utils/build-universal.sh SPIAT_1.10.0.tar.gz /Library/Frameworks/R.framework/Resources/bin/R SPIAT.buildbin-libdir StartedAt: 2025-10-01 20:39:50 -0400 (Wed, 01 Oct 2025) EndedAt: 2025-10-01 20:40:31 -0400 (Wed, 01 Oct 2025) EllapsedTime: 41.5 seconds RetCode: 0 Status: OK PackageFile: SPIAT_1.10.0.tgz PackageFileSize: 6.996 MiB