Package: SPIA Version: 2.62.0 Command: /home/biocbuild/bbs-3.22-bioc/R/bin/R CMD build --keep-empty-dirs --no-resave-data --md5 SPIA StartedAt: 2025-11-11 20:25:14 -0500 (Tue, 11 Nov 2025) EndedAt: 2025-11-11 20:30:24 -0500 (Tue, 11 Nov 2025) EllapsedTime: 310.2 seconds RetCode: 0 Status: OK PackageFile: SPIA_2.62.0.tar.gz PackageFileSize: 2.55 MiB