Package: SPIA Version: 2.62.0 Command: /Library/Frameworks/R.framework/Resources/bin/R CMD INSTALL SPIA StartedAt: 2025-11-10 15:10:01 -0500 (Mon, 10 Nov 2025) EndedAt: 2025-11-10 15:10:04 -0500 (Mon, 10 Nov 2025) EllapsedTime: 2.7 seconds RetCode: 0 Status: OK