Package: SPIA Version: 2.62.0 Command: /Library/Frameworks/R.framework/Resources/bin/R CMD build --keep-empty-dirs --no-resave-data SPIA StartedAt: 2025-11-10 17:52:09 -0500 (Mon, 10 Nov 2025) EndedAt: 2025-11-10 17:54:34 -0500 (Mon, 10 Nov 2025) EllapsedTime: 144.6 seconds RetCode: 0 Status: OK PackageFile: SPIA_2.62.0.tar.gz PackageFileSize: 2.549 MiB