Package: SPEM Version: 1.50.0 Command: /home/biocbuild/bbs-3.22-bioc/R/bin/R CMD INSTALL SPEM StartedAt: 2025-11-11 15:18:13 -0500 (Tue, 11 Nov 2025) EndedAt: 2025-11-11 15:18:17 -0500 (Tue, 11 Nov 2025) EllapsedTime: 4.2 seconds RetCode: 0 Status: OK