Package: SPEM Version: 1.48.0 Command: /home/biocbuild/R/R/bin/R CMD INSTALL SPEM StartedAt: 2025-10-13 20:25:19 -0000 (Mon, 13 Oct 2025) EndedAt: 2025-10-13 20:25:25 -0000 (Mon, 13 Oct 2025) EllapsedTime: 6.0 seconds RetCode: 0 Status: OK