Package: SPEM Version: 1.48.0 Command: /home/biocbuild/R/R/bin/R CMD build --keep-empty-dirs --no-resave-data SPEM StartedAt: 2025-10-14 05:00:54 -0000 (Tue, 14 Oct 2025) EndedAt: 2025-10-14 05:01:03 -0000 (Tue, 14 Oct 2025) EllapsedTime: 9.0 seconds RetCode: 0 Status: OK PackageFile: SPEM_1.48.0.tar.gz PackageFileSize: 587.4 KiB